BEGIN:VCALENDAR
VERSION:2.0
PRODID:icalendar-ruby
CALSCALE:GREGORIAN
METHOD:PUBLISH
BEGIN:VEVENT
DTSTAMP:20260425T153814Z
UID:27-2838979@westviewcookeville.org
DTSTART:20260715T230000Z
DTEND:20260716T000000Z
CLASS:PUBLIC
CREATED:20260425T084520
DESCRIPTION:Wednesday Bible Study and Prayer Time
LAST-MODIFIED:20260425T084520
LOCATION:WVBC Sanctuary
SUMMARY:Wednesday night Bible Study and prayer
URL;VALUE=URI:https://www.westviewcookeville.org/events/wednesday-night-bib
 le-study-and-prayer/2026-07-15
END:VEVENT
END:VCALENDAR
