BEGIN:VCALENDAR
VERSION:2.0
PRODID:icalendar-ruby
CALSCALE:GREGORIAN
METHOD:PUBLISH
BEGIN:VEVENT
DTSTAMP:20260425T233422Z
UID:27-2843943@westviewcookeville.org
DTSTART:20260819T230000Z
DTEND:20260820T000000Z
CLASS:PUBLIC
CREATED:20260425T164818
DESCRIPTION:Wednesday Bible Study and Prayer Time
LAST-MODIFIED:20260425T164818
LOCATION:WVBC Sanctuary
SUMMARY:Wednesday night Bible Study and prayer
URL;VALUE=URI:https://www.westviewcookeville.org/events/wednesday-night-bib
 le-study-and-prayer/2026-08-19
END:VEVENT
END:VCALENDAR
