BEGIN:VCALENDAR
VERSION:2.0
PRODID:icalendar-ruby
CALSCALE:GREGORIAN
METHOD:PUBLISH
BEGIN:VEVENT
DTSTAMP:20260426T011458Z
UID:27-2845597@westviewcookeville.org
DTSTART:20260826T230000Z
DTEND:20260827T000000Z
CLASS:PUBLIC
CREATED:20260425T193121
DESCRIPTION:Wednesday Bible Study and Prayer Time
LAST-MODIFIED:20260425T193121
LOCATION:WVBC Sanctuary
SUMMARY:Wednesday night Bible Study and prayer
URL;VALUE=URI:https://www.westviewcookeville.org/events/wednesday-night-bib
 le-study-and-prayer/2026-08-26
END:VEVENT
END:VCALENDAR
