BEGIN:VCALENDAR
VERSION:2.0
PRODID:icalendar-ruby
CALSCALE:GREGORIAN
METHOD:PUBLISH
BEGIN:VEVENT
DTSTAMP:20260421T134806Z
UID:29-2799902@westviewcookeville.org
DTSTART:20260708T230000Z
DTEND:20260709T000000Z
CLASS:PUBLIC
CREATED:20260421T083723
DESCRIPTION:Wednesday Youth Group
LAST-MODIFIED:20260421T083723
LOCATION:Third Floor Youth Room
SUMMARY:Wednesday Youth Group
URL;VALUE=URI:https://www.westviewcookeville.org/events/wednesday-youth-gro
 up/2026-07-08
END:VEVENT
END:VCALENDAR
