BEGIN:VCALENDAR
VERSION:2.0
PRODID:icalendar-ruby
CALSCALE:GREGORIAN
METHOD:PUBLISH
BEGIN:VEVENT
DTSTAMP:20260421T173325Z
UID:29-2801554@westviewcookeville.org
DTSTART:20260722T230000Z
DTEND:20260723T000000Z
CLASS:PUBLIC
CREATED:20260421T111506
DESCRIPTION:Wednesday Youth Group
LAST-MODIFIED:20260421T111506
LOCATION:Third Floor Youth Room
SUMMARY:Wednesday Youth Group
URL;VALUE=URI:https://www.westviewcookeville.org/events/wednesday-youth-gro
 up/2026-07-22
END:VEVENT
END:VCALENDAR
