BEGIN:VCALENDAR
VERSION:2.0
PRODID:icalendar-ruby
CALSCALE:GREGORIAN
METHOD:PUBLISH
BEGIN:VEVENT
DTSTAMP:20260421T191156Z
UID:29-2803205@westviewcookeville.org
DTSTART:20260729T230000Z
DTEND:20260730T000000Z
CLASS:PUBLIC
CREATED:20260421T135310
DESCRIPTION:Wednesday Youth Group
LAST-MODIFIED:20260421T135310
LOCATION:Third Floor Youth Room
SUMMARY:Wednesday Youth Group
URL;VALUE=URI:https://www.westviewcookeville.org/events/wednesday-youth-gro
 up/2026-07-29
END:VEVENT
END:VCALENDAR
