BEGIN:VCALENDAR
VERSION:2.0
PRODID:icalendar-ruby
CALSCALE:GREGORIAN
METHOD:PUBLISH
BEGIN:VEVENT
DTSTAMP:20260425T103905Z
UID:29-2836244@westviewcookeville.org
DTSTART:20260812T230000Z
DTEND:20260813T000000Z
CLASS:PUBLIC
CREATED:20260424T201536
DESCRIPTION:Wednesday Youth Group
LAST-MODIFIED:20260424T201536
LOCATION:Third Floor Youth Room
SUMMARY:Wednesday Youth Group
URL;VALUE=URI:https://www.westviewcookeville.org/events/wednesday-youth-gro
 up/2026-08-12
END:VEVENT
END:VCALENDAR
