BEGIN:VCALENDAR
VERSION:2.0
PRODID:icalendar-ruby
CALSCALE:GREGORIAN
METHOD:PUBLISH
BEGIN:VEVENT
DTSTAMP:20260425T133838Z
UID:29-2837899@westviewcookeville.org
DTSTART:20260826T230000Z
DTEND:20260827T000000Z
CLASS:PUBLIC
CREATED:20260425T060355
DESCRIPTION:Wednesday Youth Group
LAST-MODIFIED:20260425T060355
LOCATION:Third Floor Youth Room
SUMMARY:Wednesday Youth Group
URL;VALUE=URI:https://www.westviewcookeville.org/events/wednesday-youth-gro
 up/2026-08-26
END:VEVENT
END:VCALENDAR
