BEGIN:VCALENDAR
VERSION:2.0
PRODID:icalendar-ruby
CALSCALE:GREGORIAN
METHOD:PUBLISH
BEGIN:VEVENT
DTSTAMP:20260425T151458Z
UID:29-2839553@westviewcookeville.org
DTSTART:20260902T230000Z
DTEND:20260903T000000Z
CLASS:PUBLIC
CREATED:20260425T084521
DESCRIPTION:Wednesday Youth Group
LAST-MODIFIED:20260425T084521
LOCATION:Third Floor Youth Room
SUMMARY:Wednesday Youth Group
URL;VALUE=URI:https://www.westviewcookeville.org/events/wednesday-youth-gro
 up/2026-09-02
END:VEVENT
END:VCALENDAR
