BEGIN:VCALENDAR
VERSION:2.0
PRODID:icalendar-ruby
CALSCALE:GREGORIAN
METHOD:PUBLISH
BEGIN:VEVENT
DTSTAMP:20260425T183049Z
UID:29-2841208@westviewcookeville.org
DTSTART:20260916T230000Z
DTEND:20260917T000000Z
CLASS:PUBLIC
CREATED:20260425T112553
DESCRIPTION:Wednesday Youth Group
LAST-MODIFIED:20260425T112553
LOCATION:Third Floor Youth Room
SUMMARY:Wednesday Youth Group
URL;VALUE=URI:https://www.westviewcookeville.org/events/wednesday-youth-gro
 up/2026-09-16
END:VEVENT
END:VCALENDAR
