BEGIN:VCALENDAR
VERSION:2.0
PRODID:icalendar-ruby
CALSCALE:GREGORIAN
METHOD:PUBLISH
BEGIN:VEVENT
DTSTAMP:20260426T041152Z
UID:29-2846173@westviewcookeville.org
DTSTART:20261028T230000Z
DTEND:20261029T000000Z
CLASS:PUBLIC
CREATED:20260425T193122
DESCRIPTION:Wednesday Youth Group
LAST-MODIFIED:20260425T193122
LOCATION:Third Floor Youth Room
SUMMARY:Wednesday Youth Group
URL;VALUE=URI:https://www.westviewcookeville.org/events/wednesday-youth-gro
 up/2026-10-28
END:VEVENT
END:VCALENDAR
